BEGIN:VCALENDAR
VERSION:2.0
PRODID:-//Bay Area Satsuki Aikokai - ECPv6.15.20//NONSGML v1.0//EN
CALSCALE:GREGORIAN
METHOD:PUBLISH
X-ORIGINAL-URL:https://satsukiazaleabonsai.org
X-WR-CALDESC:Events for Bay Area Satsuki Aikokai
REFRESH-INTERVAL;VALUE=DURATION:PT1H
X-Robots-Tag:noindex
X-PUBLISHED-TTL:PT1H
BEGIN:VTIMEZONE
TZID:America/Los_Angeles
BEGIN:DAYLIGHT
TZOFFSETFROM:-0800
TZOFFSETTO:-0700
TZNAME:PDT
DTSTART:20170312T100000
END:DAYLIGHT
BEGIN:STANDARD
TZOFFSETFROM:-0700
TZOFFSETTO:-0800
TZNAME:PST
DTSTART:20171105T090000
END:STANDARD
BEGIN:DAYLIGHT
TZOFFSETFROM:-0800
TZOFFSETTO:-0700
TZNAME:PDT
DTSTART:20180311T100000
END:DAYLIGHT
BEGIN:STANDARD
TZOFFSETFROM:-0700
TZOFFSETTO:-0800
TZNAME:PST
DTSTART:20181104T090000
END:STANDARD
BEGIN:DAYLIGHT
TZOFFSETFROM:-0800
TZOFFSETTO:-0700
TZNAME:PDT
DTSTART:20190310T100000
END:DAYLIGHT
BEGIN:STANDARD
TZOFFSETFROM:-0700
TZOFFSETTO:-0800
TZNAME:PST
DTSTART:20191103T090000
END:STANDARD
BEGIN:DAYLIGHT
TZOFFSETFROM:-0800
TZOFFSETTO:-0700
TZNAME:PDT
DTSTART:20200308T100000
END:DAYLIGHT
BEGIN:STANDARD
TZOFFSETFROM:-0700
TZOFFSETTO:-0800
TZNAME:PST
DTSTART:20201101T090000
END:STANDARD
BEGIN:DAYLIGHT
TZOFFSETFROM:-0800
TZOFFSETTO:-0700
TZNAME:PDT
DTSTART:20210314T100000
END:DAYLIGHT
BEGIN:STANDARD
TZOFFSETFROM:-0700
TZOFFSETTO:-0800
TZNAME:PST
DTSTART:20211107T090000
END:STANDARD
BEGIN:DAYLIGHT
TZOFFSETFROM:-0800
TZOFFSETTO:-0700
TZNAME:PDT
DTSTART:20220313T100000
END:DAYLIGHT
BEGIN:STANDARD
TZOFFSETFROM:-0700
TZOFFSETTO:-0800
TZNAME:PST
DTSTART:20221106T090000
END:STANDARD
BEGIN:DAYLIGHT
TZOFFSETFROM:-0800
TZOFFSETTO:-0700
TZNAME:PDT
DTSTART:20230312T100000
END:DAYLIGHT
BEGIN:STANDARD
TZOFFSETFROM:-0700
TZOFFSETTO:-0800
TZNAME:PST
DTSTART:20231105T090000
END:STANDARD
BEGIN:DAYLIGHT
TZOFFSETFROM:-0800
TZOFFSETTO:-0700
TZNAME:PDT
DTSTART:20240310T100000
END:DAYLIGHT
BEGIN:STANDARD
TZOFFSETFROM:-0700
TZOFFSETTO:-0800
TZNAME:PST
DTSTART:20241103T090000
END:STANDARD
BEGIN:DAYLIGHT
TZOFFSETFROM:-0800
TZOFFSETTO:-0700
TZNAME:PDT
DTSTART:20250309T100000
END:DAYLIGHT
BEGIN:STANDARD
TZOFFSETFROM:-0700
TZOFFSETTO:-0800
TZNAME:PST
DTSTART:20251102T090000
END:STANDARD
END:VTIMEZONE
BEGIN:VEVENT
DTSTART;TZID=America/Los_Angeles:20240519T100000
DTEND;TZID=America/Los_Angeles:20240519T160000
DTSTAMP:20260420T021520
CREATED:20240104T055831Z
LAST-MODIFIED:20240104T055831Z
UID:5209-1716112800-1716134400@satsukiazaleabonsai.org
SUMMARY:Annual Spring Show
DESCRIPTION:It’s show time!
URL:https://satsukiazaleabonsai.org/event/annual-spring-show-4/
LOCATION:Lakeside Park Garden Center\, Lake Merritt\, Oakland\, 666 Bellevue Avenue\, Oakland\, CA\, 94610\, United States
CATEGORIES:Annual Club Spring Show
END:VEVENT
BEGIN:VEVENT
DTSTART;TZID=America/Los_Angeles:20240518T100000
DTEND;TZID=America/Los_Angeles:20240518T170000
DTSTAMP:20260420T021520
CREATED:20240104T055716Z
LAST-MODIFIED:20240104T055716Z
UID:5207-1716026400-1716051600@satsukiazaleabonsai.org
SUMMARY:Annual Spring Show
DESCRIPTION:It’s show time!
URL:https://satsukiazaleabonsai.org/event/annual-spring-show-3/
LOCATION:Lakeside Park Garden Center\, Lake Merritt\, Oakland\, 666 Bellevue Avenue\, Oakland\, CA\, 94610\, United States
CATEGORIES:Annual Club Spring Show
END:VEVENT
BEGIN:VEVENT
DTSTART;TZID=America/Los_Angeles:20240517T170000
DTEND;TZID=America/Los_Angeles:20240517T190000
DTSTAMP:20260420T021520
CREATED:20240104T055529Z
LAST-MODIFIED:20240104T055529Z
UID:5205-1715965200-1715972400@satsukiazaleabonsai.org
SUMMARY:Show Set Up
DESCRIPTION:Ron Reid is the boss! Darren Wong orders pizza. \nMike Mello and Dennis Hawkins run member sales.
URL:https://satsukiazaleabonsai.org/event/show-set-up/
LOCATION:Lakeside Park Garden Center\, Lake Merritt\, Oakland\, 666 Bellevue Avenue\, Oakland\, CA\, 94610\, United States
CATEGORIES:Annual Club Spring Show
END:VEVENT
BEGIN:VEVENT
DTSTART;TZID=America/Los_Angeles:20200531T100000
DTEND;TZID=America/Los_Angeles:20200531T160000
DTSTAMP:20260420T021520
CREATED:20200303T234433Z
LAST-MODIFIED:20200303T234433Z
UID:3563-1590919200-1590940800@satsukiazaleabonsai.org
SUMMARY:Annual Spring Show
DESCRIPTION:Annual Spring Show
URL:https://satsukiazaleabonsai.org/event/annual-spring-show-2/
LOCATION:Lakeside Park Garden Center\, Lake Merritt\, Oakland\, 666 Bellevue Avenue\, Oakland\, CA\, 94610\, United States
CATEGORIES:Annual Club Spring Show
END:VEVENT
BEGIN:VEVENT
DTSTART;TZID=America/Los_Angeles:20200530T100000
DTEND;TZID=America/Los_Angeles:20200530T170000
DTSTAMP:20260420T021520
CREATED:20200303T231818Z
LAST-MODIFIED:20200303T231818Z
UID:3553-1590832800-1590858000@satsukiazaleabonsai.org
SUMMARY:Annual Spring Show
DESCRIPTION:Annual Spring Show \nFeaturing: \nExpert demonstrations & raffle on Saturday from 1:00 to 3:00 pm \nEducational forums all day \nMember sales with beginner and Japan imported material \nVendor sales \n 
URL:https://satsukiazaleabonsai.org/event/annual-spring-show/
LOCATION:Lakeside Park Garden Center\, Lake Merritt\, Oakland\, 666 Bellevue Avenue\, Oakland\, CA\, 94610\, United States
CATEGORIES:Annual Club Spring Show
END:VEVENT
BEGIN:VEVENT
DTSTART;TZID=America/Los_Angeles:20180520T100000
DTEND;TZID=America/Los_Angeles:20180520T160000
DTSTAMP:20260420T021520
CREATED:20180306T152525Z
LAST-MODIFIED:20180306T152525Z
UID:1242-1526810400-1526832000@satsukiazaleabonsai.org
SUMMARY:Annual Club Spring Show
DESCRIPTION:Bay Area Satsuki Aikokai proudly presents a Celebration of Bonsai Color by hosting its annual club spring show.
URL:https://satsukiazaleabonsai.org/event/annual-club-spring-show/
LOCATION:Lakeside Park Garden Center\, Lake Merritt\, Oakland\, 666 Bellevue Avenue\, Oakland\, CA\, 94610\, United States
CATEGORIES:Annual Club Spring Show
END:VEVENT
BEGIN:VEVENT
DTSTART;TZID=America/Los_Angeles:20180519T100000
DTEND;TZID=America/Los_Angeles:20180519T170000
DTSTAMP:20260420T021520
CREATED:20180306T152604Z
LAST-MODIFIED:20180306T152604Z
UID:1240-1526724000-1526749200@satsukiazaleabonsai.org
SUMMARY:Annual Club Spring Show
DESCRIPTION:Bay Area Satsuki Aikokai proudly presents a Celebration of Bonsai Color by hosting its annual club spring show.
URL:https://satsukiazaleabonsai.org/event/annual-club-spring-show-2/
LOCATION:Lakeside Park Garden Center\, Lake Merritt\, Oakland\, 666 Bellevue Avenue\, Oakland\, CA\, 94610\, United States
CATEGORIES:Annual Club Spring Show
END:VEVENT
END:VCALENDAR