BEGIN:VCALENDAR
VERSION:2.0
PRODID:-//Bay Area Satsuki Aikokai - ECPv6.15.20//NONSGML v1.0//EN
CALSCALE:GREGORIAN
METHOD:PUBLISH
X-WR-CALNAME:Bay Area Satsuki Aikokai
X-ORIGINAL-URL:https://satsukiazaleabonsai.org
X-WR-CALDESC:Events for Bay Area Satsuki Aikokai
REFRESH-INTERVAL;VALUE=DURATION:PT1H
X-Robots-Tag:noindex
X-PUBLISHED-TTL:PT1H
BEGIN:VTIMEZONE
TZID:America/Los_Angeles
BEGIN:DAYLIGHT
TZOFFSETFROM:-0800
TZOFFSETTO:-0700
TZNAME:PDT
DTSTART:20150308T100000
END:DAYLIGHT
BEGIN:STANDARD
TZOFFSETFROM:-0700
TZOFFSETTO:-0800
TZNAME:PST
DTSTART:20151101T090000
END:STANDARD
BEGIN:DAYLIGHT
TZOFFSETFROM:-0800
TZOFFSETTO:-0700
TZNAME:PDT
DTSTART:20160313T100000
END:DAYLIGHT
BEGIN:STANDARD
TZOFFSETFROM:-0700
TZOFFSETTO:-0800
TZNAME:PST
DTSTART:20161106T090000
END:STANDARD
BEGIN:DAYLIGHT
TZOFFSETFROM:-0800
TZOFFSETTO:-0700
TZNAME:PDT
DTSTART:20170312T100000
END:DAYLIGHT
BEGIN:STANDARD
TZOFFSETFROM:-0700
TZOFFSETTO:-0800
TZNAME:PST
DTSTART:20171105T090000
END:STANDARD
BEGIN:DAYLIGHT
TZOFFSETFROM:-0800
TZOFFSETTO:-0700
TZNAME:PDT
DTSTART:20180311T100000
END:DAYLIGHT
BEGIN:STANDARD
TZOFFSETFROM:-0700
TZOFFSETTO:-0800
TZNAME:PST
DTSTART:20181104T090000
END:STANDARD
BEGIN:DAYLIGHT
TZOFFSETFROM:-0800
TZOFFSETTO:-0700
TZNAME:PDT
DTSTART:20190310T100000
END:DAYLIGHT
BEGIN:STANDARD
TZOFFSETFROM:-0700
TZOFFSETTO:-0800
TZNAME:PST
DTSTART:20191103T090000
END:STANDARD
BEGIN:DAYLIGHT
TZOFFSETFROM:-0800
TZOFFSETTO:-0700
TZNAME:PDT
DTSTART:20200308T100000
END:DAYLIGHT
BEGIN:STANDARD
TZOFFSETFROM:-0700
TZOFFSETTO:-0800
TZNAME:PST
DTSTART:20201101T090000
END:STANDARD
BEGIN:DAYLIGHT
TZOFFSETFROM:-0800
TZOFFSETTO:-0700
TZNAME:PDT
DTSTART:20210314T100000
END:DAYLIGHT
BEGIN:STANDARD
TZOFFSETFROM:-0700
TZOFFSETTO:-0800
TZNAME:PST
DTSTART:20211107T090000
END:STANDARD
END:VTIMEZONE
BEGIN:VEVENT
DTSTART;TZID=America/Los_Angeles:20201022T193000
DTEND;TZID=America/Los_Angeles:20201022T213000
DTSTAMP:20260421T145831
CREATED:20200303T232259Z
LAST-MODIFIED:20200303T232259Z
UID:3557-1603395000-1603402200@satsukiazaleabonsai.org
SUMMARY:Meeting
DESCRIPTION:Presentation on fertilizers and pesticides – presenter TBA
URL:https://satsukiazaleabonsai.org/event/meeting-8/
LOCATION:Lakeside Park Garden Center\, Lake Merritt\, Oakland\, 666 Bellevue Avenue\, Oakland\, CA\, 94610\, United States
CATEGORIES:Club Meeting
END:VEVENT
BEGIN:VEVENT
DTSTART;TZID=America/Los_Angeles:20200924T193000
DTEND;TZID=America/Los_Angeles:20200924T213000
DTSTAMP:20260421T145831
CREATED:20200303T232055Z
LAST-MODIFIED:20200303T232922Z
UID:3555-1600975800-1600983000@satsukiazaleabonsai.org
SUMMARY:Meeting
DESCRIPTION:Presentation on bonsai container selection with raffle – presenter TBA
URL:https://satsukiazaleabonsai.org/event/meeting-7/
LOCATION:Lakeside Park Garden Center\, Lake Merritt\, Oakland\, 666 Bellevue Avenue\, Oakland\, CA\, 94610\, United States
CATEGORIES:Club Meeting
END:VEVENT
BEGIN:VEVENT
DTSTART;TZID=America/Los_Angeles:20200531T100000
DTEND;TZID=America/Los_Angeles:20200531T160000
DTSTAMP:20260421T145831
CREATED:20200303T234433Z
LAST-MODIFIED:20200303T234433Z
UID:3563-1590919200-1590940800@satsukiazaleabonsai.org
SUMMARY:Annual Spring Show
DESCRIPTION:Annual Spring Show
URL:https://satsukiazaleabonsai.org/event/annual-spring-show-2/
LOCATION:Lakeside Park Garden Center\, Lake Merritt\, Oakland\, 666 Bellevue Avenue\, Oakland\, CA\, 94610\, United States
CATEGORIES:Annual Club Spring Show
END:VEVENT
BEGIN:VEVENT
DTSTART;TZID=America/Los_Angeles:20200530T100000
DTEND;TZID=America/Los_Angeles:20200530T170000
DTSTAMP:20260421T145831
CREATED:20200303T231818Z
LAST-MODIFIED:20200303T231818Z
UID:3553-1590832800-1590858000@satsukiazaleabonsai.org
SUMMARY:Annual Spring Show
DESCRIPTION:Annual Spring Show \nFeaturing: \nExpert demonstrations & raffle on Saturday from 1:00 to 3:00 pm \nEducational forums all day \nMember sales with beginner and Japan imported material \nVendor sales \n 
URL:https://satsukiazaleabonsai.org/event/annual-spring-show/
LOCATION:Lakeside Park Garden Center\, Lake Merritt\, Oakland\, 666 Bellevue Avenue\, Oakland\, CA\, 94610\, United States
CATEGORIES:Annual Club Spring Show
END:VEVENT
BEGIN:VEVENT
DTSTART;TZID=America/Los_Angeles:20200423T193000
DTEND;TZID=America/Los_Angeles:20200423T213000
DTSTAMP:20260421T145831
CREATED:20200303T231404Z
LAST-MODIFIED:20200303T231404Z
UID:3551-1587670200-1587677400@satsukiazaleabonsai.org
SUMMARY:Meeting
DESCRIPTION:Presentation suggestions and tips for our spring show by Ron Reid and Maria Sargent
URL:https://satsukiazaleabonsai.org/event/meeting-6/
LOCATION:Lakeside Park Garden Center\, Lake Merritt\, Oakland\, 666 Bellevue Avenue\, Oakland\, CA\, 94610\, United States
CATEGORIES:Club Meeting
END:VEVENT
BEGIN:VEVENT
DTSTART;TZID=America/Los_Angeles:20200326T193000
DTEND;TZID=America/Los_Angeles:20200326T213000
DTSTAMP:20260421T145831
CREATED:20200303T231158Z
LAST-MODIFIED:20200303T231158Z
UID:3549-1585251000-1585258200@satsukiazaleabonsai.org
SUMMARY:Meeting
DESCRIPTION:Cutting back for spring growth by Darren and Laura Wong
URL:https://satsukiazaleabonsai.org/event/meeting-5/
LOCATION:Lakeside Park Garden Center\, Lake Merritt\, Oakland\, 666 Bellevue Avenue\, Oakland\, CA\, 94610\, United States
CATEGORIES:Club Meeting
END:VEVENT
BEGIN:VEVENT
DTSTART;TZID=America/Los_Angeles:20200227T193000
DTEND;TZID=America/Los_Angeles:20200227T213000
DTSTAMP:20260421T145831
CREATED:20200303T230747Z
LAST-MODIFIED:20200303T230747Z
UID:3547-1582831800-1582839000@satsukiazaleabonsai.org
SUMMARY:Meeting
DESCRIPTION:Repotting with Bob Gould \nExposed root demonstration by Darren Wong
URL:https://satsukiazaleabonsai.org/event/meeting-4/
LOCATION:Lakeside Park Garden Center\, Lake Merritt\, Oakland\, 666 Bellevue Avenue\, Oakland\, CA\, 94610\, United States
CATEGORIES:Club Meeting
END:VEVENT
BEGIN:VEVENT
DTSTART;TZID=America/Los_Angeles:20181115T190000
DTEND;TZID=America/Los_Angeles:20181115T213000
DTSTAMP:20260421T145831
CREATED:20180306T154435Z
LAST-MODIFIED:20180306T154435Z
UID:1250-1542308400-1542317400@satsukiazaleabonsai.org
SUMMARY:Club Meeting
DESCRIPTION:Annual potluck dinner and annual spring show slideshow video.
URL:https://satsukiazaleabonsai.org/event/club-meeting-8/
LOCATION:Lakeside Park Garden Center\, Lake Merritt\, Oakland\, 666 Bellevue Avenue\, Oakland\, CA\, 94610\, United States
CATEGORIES:Club Meeting,Potluck Dinner
END:VEVENT
BEGIN:VEVENT
DTSTART;TZID=America/Los_Angeles:20181018T193000
DTEND;TZID=America/Los_Angeles:20181018T213000
DTSTAMP:20260421T145831
CREATED:20180306T154023Z
LAST-MODIFIED:20181016T140549Z
UID:1248-1539891000-1539898200@satsukiazaleabonsai.org
SUMMARY:Club Meeting (Changed due to GSBF Convention 41)
DESCRIPTION:Mesuki workshop and discussion on preparing Satsuki azaleas for winter.
URL:https://satsukiazaleabonsai.org/event/club-meeting-7/
LOCATION:Lakeside Park Garden Center\, Lake Merritt\, Oakland\, 666 Bellevue Avenue\, Oakland\, CA\, 94610\, United States
CATEGORIES:Club Meeting,Workshop
END:VEVENT
BEGIN:VEVENT
DTSTART;TZID=America/Los_Angeles:20180927T193000
DTEND;TZID=America/Los_Angeles:20180927T213000
DTSTAMP:20260421T145831
CREATED:20180306T153447Z
LAST-MODIFIED:20180306T153447Z
UID:1246-1538076600-1538083800@satsukiazaleabonsai.org
SUMMARY:Club Meeting
DESCRIPTION:Discussion on Satsuki Azaleas suitable for Nor Cal micro-climates\, fertilizers and pest control.
URL:https://satsukiazaleabonsai.org/event/club-meeting-6/
LOCATION:Lakeside Park Garden Center\, Lake Merritt\, Oakland\, 666 Bellevue Avenue\, Oakland\, CA\, 94610\, United States
CATEGORIES:Club Meeting
END:VEVENT
BEGIN:VEVENT
DTSTART;TZID=America/Los_Angeles:20180628T193000
DTEND;TZID=America/Los_Angeles:20180628T213000
DTSTAMP:20260421T145831
CREATED:20180306T152957Z
LAST-MODIFIED:20180306T152957Z
UID:1244-1530214200-1530221400@satsukiazaleabonsai.org
SUMMARY:Club Meeting
DESCRIPTION:Post bloom workshop and discussion by Bob Gould.
URL:https://satsukiazaleabonsai.org/event/club-meeting-5/
LOCATION:Lakeside Park Garden Center\, Lake Merritt\, Oakland\, 666 Bellevue Avenue\, Oakland\, CA\, 94610\, United States
CATEGORIES:Club Meeting,Workshop
END:VEVENT
BEGIN:VEVENT
DTSTART;TZID=America/Los_Angeles:20180520T100000
DTEND;TZID=America/Los_Angeles:20180520T160000
DTSTAMP:20260421T145831
CREATED:20180306T152525Z
LAST-MODIFIED:20180306T152525Z
UID:1242-1526810400-1526832000@satsukiazaleabonsai.org
SUMMARY:Annual Club Spring Show
DESCRIPTION:Bay Area Satsuki Aikokai proudly presents a Celebration of Bonsai Color by hosting its annual club spring show.
URL:https://satsukiazaleabonsai.org/event/annual-club-spring-show/
LOCATION:Lakeside Park Garden Center\, Lake Merritt\, Oakland\, 666 Bellevue Avenue\, Oakland\, CA\, 94610\, United States
CATEGORIES:Annual Club Spring Show
END:VEVENT
BEGIN:VEVENT
DTSTART;TZID=America/Los_Angeles:20180519T100000
DTEND;TZID=America/Los_Angeles:20180519T170000
DTSTAMP:20260421T145831
CREATED:20180306T152604Z
LAST-MODIFIED:20180306T152604Z
UID:1240-1526724000-1526749200@satsukiazaleabonsai.org
SUMMARY:Annual Club Spring Show
DESCRIPTION:Bay Area Satsuki Aikokai proudly presents a Celebration of Bonsai Color by hosting its annual club spring show.
URL:https://satsukiazaleabonsai.org/event/annual-club-spring-show-2/
LOCATION:Lakeside Park Garden Center\, Lake Merritt\, Oakland\, 666 Bellevue Avenue\, Oakland\, CA\, 94610\, United States
CATEGORIES:Annual Club Spring Show
END:VEVENT
BEGIN:VEVENT
DTSTART;TZID=America/Los_Angeles:20180426T193000
DTEND;TZID=America/Los_Angeles:20180426T213000
DTSTAMP:20260421T145831
CREATED:20180306T154514Z
LAST-MODIFIED:20180306T154514Z
UID:1238-1524771000-1524778200@satsukiazaleabonsai.org
SUMMARY:Club Meeting
DESCRIPTION:Evening for annual show preparations and display discussion.
URL:https://satsukiazaleabonsai.org/event/club-meeting-9/
LOCATION:Lakeside Park Garden Center\, Lake Merritt\, Oakland\, 666 Bellevue Avenue\, Oakland\, CA\, 94610\, United States
CATEGORIES:Club Meeting
END:VEVENT
BEGIN:VEVENT
DTSTART;TZID=America/Los_Angeles:20180322T193000
DTEND;TZID=America/Los_Angeles:20180322T213000
DTSTAMP:20260421T145831
CREATED:20180306T150205Z
LAST-MODIFIED:20180306T151540Z
UID:1231-1521747000-1521754200@satsukiazaleabonsai.org
SUMMARY:Club Meeting
DESCRIPTION:Darren and Laura Wong will lead in workshop and talk about their work in Japan.
URL:https://satsukiazaleabonsai.org/event/club-meeting-4/
LOCATION:Lakeside Park Garden Center\, Lake Merritt\, Oakland\, 666 Bellevue Avenue\, Oakland\, CA\, 94610\, United States
CATEGORIES:Club Meeting,Workshop
END:VEVENT
BEGIN:VEVENT
DTSTART;TZID=America/Los_Angeles:20180222T193000
DTEND;TZID=America/Los_Angeles:20180222T213000
DTSTAMP:20260421T145831
CREATED:20180128T154833Z
LAST-MODIFIED:20180128T154833Z
UID:1195-1519327800-1519335000@satsukiazaleabonsai.org
SUMMARY:Club Meeting
DESCRIPTION:Gordon Deeg will be giving a presentation on tool maintenance and sharpening.
URL:https://satsukiazaleabonsai.org/event/club-meeting-3/
LOCATION:Lakeside Park Garden Center\, Lake Merritt\, Oakland\, 666 Bellevue Avenue\, Oakland\, CA\, 94610\, United States
CATEGORIES:Club Meeting
END:VEVENT
BEGIN:VEVENT
DTSTART;TZID=America/Los_Angeles:20171116T183000
DTEND;TZID=America/Los_Angeles:20171116T213000
DTSTAMP:20260421T145831
CREATED:20160516T035707Z
LAST-MODIFIED:20161026T184202Z
UID:503-1510857000-1510867800@satsukiazaleabonsai.org
SUMMARY:Club Meeting
DESCRIPTION:Potluck dinner and slideshow of the Spring Exhibition.  Starts early!
URL:https://satsukiazaleabonsai.org/event/club-meeting-2/
LOCATION:Lakeside Park Garden Center\, Lake Merritt\, Oakland\, 666 Bellevue Avenue\, Oakland\, CA\, 94610\, United States
ATTACH;FMTTYPE=image/jpeg:https://satsukiazaleabonsai.org/wp-content/uploads/2016/06/cropped-IMG_4750.jpg
END:VEVENT
BEGIN:VEVENT
DTSTART;TZID=America/Los_Angeles:20171026T193000
DTEND;TZID=America/Los_Angeles:20171026T213000
DTSTAMP:20260421T145831
CREATED:20160516T035707Z
LAST-MODIFIED:20171002T174402Z
UID:502-1509046200-1509053400@satsukiazaleabonsai.org
SUMMARY:Club Meeting
DESCRIPTION:Leaf removal\, mesuki.  ELECTIONS.
URL:https://satsukiazaleabonsai.org/event/club-meeting-2-8/
LOCATION:Lakeside Park Garden Center\, Lake Merritt\, Oakland\, 666 Bellevue Avenue\, Oakland\, CA\, 94610\, United States
ATTACH;FMTTYPE=image/jpeg:https://satsukiazaleabonsai.org/wp-content/uploads/2016/07/cropped-IMG_4763.jpg
END:VEVENT
BEGIN:VEVENT
DTSTART;TZID=America/Los_Angeles:20170928T193000
DTEND;TZID=America/Los_Angeles:20170928T213000
DTSTAMP:20260421T145831
CREATED:20160516T035707Z
LAST-MODIFIED:20161026T184708Z
UID:501-1506627000-1506634200@satsukiazaleabonsai.org
SUMMARY:Club Meeting
DESCRIPTION:Pest control\, fertilizer.
URL:https://satsukiazaleabonsai.org/event/club-meeting-2-7/
LOCATION:Lakeside Park Garden Center\, Lake Merritt\, Oakland\, 666 Bellevue Avenue\, Oakland\, CA\, 94610\, United States
ATTACH;FMTTYPE=image/jpeg:https://satsukiazaleabonsai.org/wp-content/uploads/2016/05/Nyohozan-BG-1024x768.jpg
END:VEVENT
BEGIN:VEVENT
DTSTART;TZID=America/Los_Angeles:20170622T193000
DTEND;TZID=America/Los_Angeles:20170622T213000
DTSTAMP:20260421T145831
CREATED:20160516T035707Z
LAST-MODIFIED:20161026T184630Z
UID:504-1498159800-1498167000@satsukiazaleabonsai.org
SUMMARY:Club Meeting
DESCRIPTION:Post-bloom care.
URL:https://satsukiazaleabonsai.org/event/club-meeting-2-6/
LOCATION:Lakeside Park Garden Center\, Lake Merritt\, Oakland\, 666 Bellevue Avenue\, Oakland\, CA\, 94610\, United States
ATTACH;FMTTYPE=image/jpeg:https://satsukiazaleabonsai.org/wp-content/uploads/2016/06/Yama-no-Hikari-Azalea-2011-3.jpg
END:VEVENT
BEGIN:VEVENT
DTSTART;TZID=America/Los_Angeles:20170521T100000
DTEND;TZID=America/Los_Angeles:20170521T160000
DTSTAMP:20260421T145831
CREATED:20161019T182449Z
LAST-MODIFIED:20161019T182701Z
UID:518-1495360800-1495382400@satsukiazaleabonsai.org
SUMMARY:Annual Show - Day 2
DESCRIPTION:BASA presents a two-day exhibition featuring dozens of Japanese Satsuki azalea bonsai. This is an opportunity to see the diverse and often multicolored blooms in developed bonsai. Demonstrations on creating Satsuki azalea bonsai are offered by noted bonsai artists\,and educational forums are ongoing both days. Sales of Satsuki azaleas\, pots\, tools\, books and other accessories are provided by club members and selected vendors. Raffles for demonstration trees complete one of the most colorful and beautiful bonsai displays of the year. \nThe annual exhibition is held at the Lakeside Garden Center\, Lake Merritt\, 666 Bellevue Ave. in Oakland. Free admission. Public parking.
URL:https://satsukiazaleabonsai.org/event/annual-show/
LOCATION:Lakeside Park Garden Center\, Lake Merritt\, Oakland\, 666 Bellevue Avenue\, Oakland\, CA\, 94610\, United States
ATTACH;FMTTYPE=image/jpeg:https://satsukiazaleabonsai.org/wp-content/uploads/2016/07/cropped-shohin-009.jpg
END:VEVENT
BEGIN:VEVENT
DTSTART;TZID=America/Los_Angeles:20170520T100000
DTEND;TZID=America/Los_Angeles:20170520T170000
DTSTAMP:20260421T145831
CREATED:20160516T035707Z
LAST-MODIFIED:20161119T022622Z
UID:498-1495274400-1495299600@satsukiazaleabonsai.org
SUMMARY:Annual Show - Day 1
DESCRIPTION:BASA presents a two-day exhibition featuring dozens of Japanese Satsuki azalea bonsai. This is an opportunity to see the diverse and often multicolored blooms in developed bonsai. Demonstrations on creating Satsuki azalea bonsai are offered by noted bonsai artists\,and educational forums are ongoing both days. Sales of Satsuki azaleas\, pots\, tools\, books and other accessories are provided by club members and selected vendors. Raffles for demonstration trees complete one of the most colorful and beautiful bonsai displays of the year. \nThe annual exhibition is held at the Lakeside Garden Center\, Lake Merritt\, 666 Bellevue Ave. in Oakland. Free admission. Public parking.
URL:https://satsukiazaleabonsai.org/event/club-meeting-2-4/
LOCATION:Lakeside Park Garden Center\, Lake Merritt\, Oakland\, 666 Bellevue Avenue\, Oakland\, CA\, 94610\, United States
ATTACH;FMTTYPE=image/jpeg:https://satsukiazaleabonsai.org/wp-content/uploads/2016/07/Chiyo-no-Homare-Azalea-2010-2.jpg
END:VEVENT
BEGIN:VEVENT
DTSTART;TZID=America/Los_Angeles:20170427T193000
DTEND;TZID=America/Los_Angeles:20170427T213000
DTSTAMP:20260421T145831
CREATED:20160516T035707Z
LAST-MODIFIED:20161026T184558Z
UID:506-1493321400-1493328600@satsukiazaleabonsai.org
SUMMARY:Club Meeting
DESCRIPTION:Bob Gould on cutting back and wiring.
URL:https://satsukiazaleabonsai.org/event/club-meeting-2-5/
LOCATION:Lakeside Park Garden Center\, Lake Merritt\, Oakland\, 666 Bellevue Avenue\, Oakland\, CA\, 94610\, United States
ATTACH;FMTTYPE=image/jpeg:https://satsukiazaleabonsai.org/wp-content/uploads/2016/06/Kami-no-Yama-Kirin-Azalea-2011.jpg
END:VEVENT
BEGIN:VEVENT
DTSTART;TZID=America/Los_Angeles:20170323T193000
DTEND;TZID=America/Los_Angeles:20170323T213000
DTSTAMP:20260421T145831
CREATED:20160516T035707Z
LAST-MODIFIED:20161109T165746Z
UID:505-1490297400-1490304600@satsukiazaleabonsai.org
SUMMARY:Club Meeting
DESCRIPTION:Repotting with Darren Wong
URL:https://satsukiazaleabonsai.org/event/club-meeting-2-3/
LOCATION:Lakeside Park Garden Center\, Lake Merritt\, Oakland\, 666 Bellevue Avenue\, Oakland\, CA\, 94610\, United States
ATTACH;FMTTYPE=image/jpeg:https://satsukiazaleabonsai.org/wp-content/uploads/2016/05/IMG_3639.JPG-768x1024.jpg
END:VEVENT
BEGIN:VEVENT
DTSTART;TZID=America/Los_Angeles:20170304T130000
DTEND;TZID=America/Los_Angeles:20170304T160000
DTSTAMP:20260421T145831
CREATED:20170227T194205Z
LAST-MODIFIED:20170227T194206Z
UID:664-1488632400-1488643200@satsukiazaleabonsai.org
SUMMARY:Ryan Neil
DESCRIPTION:Tickets are still available for the Ryan Neil repotting and re-styling demonstration for the Bonsai Garden at Lake Merritt\, Oakland\, 1-4PM\, March 4\, 2017. $35 (tax deductible) fee goes to the Garden Revitalization Opportunity (GRO) project. Visit website http://gsbf-lakemerritt.org for more information.
URL:https://satsukiazaleabonsai.org/event/ryan-neil/
LOCATION:Lake Merritt Sailboat Boathouse\, Oakland\, CA\, 94610\, United States
ORGANIZER;CN="GSBF Bonsai Garden at Lake Merritt":MAILTO:bonsailakemerritt@gmail.com
END:VEVENT
BEGIN:VEVENT
DTSTART;TZID=America/Los_Angeles:20170223T193000
DTEND;TZID=America/Los_Angeles:20170223T213000
DTSTAMP:20260421T145831
CREATED:20160516T035707Z
LAST-MODIFIED:20161026T184350Z
UID:500-1487878200-1487885400@satsukiazaleabonsai.org
SUMMARY:Club Meeting
DESCRIPTION:Darren Wong with a grafting demonstration – Ward’s Ruby Challenge – exhibition and awarding of prize\, 2018 membership paid.
URL:https://satsukiazaleabonsai.org/event/club-meeting-2-2/
LOCATION:Lakeside Park Garden Center\, Lake Merritt\, Oakland\, 666 Bellevue Avenue\, Oakland\, CA\, 94610\, United States
ATTACH;FMTTYPE=image/jpeg:https://satsukiazaleabonsai.org/wp-content/uploads/2016/07/Chiyo-no-Homare-Azalea-2010-2.jpg
END:VEVENT
BEGIN:VEVENT
DTSTART;TZID=America/Los_Angeles:20161117T183000
DTEND;TZID=America/Los_Angeles:20161117T213000
DTSTAMP:20260421T145831
CREATED:20160516T035707Z
LAST-MODIFIED:20161109T165436Z
UID:220-1479407400-1479418200@satsukiazaleabonsai.org
SUMMARY:Club Meeting
DESCRIPTION:Potluck holiday dinner.  Slideshow of our Spring Exhibition. Starts early!
URL:https://satsukiazaleabonsai.org/event/club-meeting/
LOCATION:Lakeside Park Garden Center\, Lake Merritt\, Oakland\, 666 Bellevue Avenue\, Oakland\, CA\, 94610\, United States
ATTACH;FMTTYPE=image/jpeg:https://satsukiazaleabonsai.org/wp-content/uploads/2016/06/Yama-no-Hikari-Azalea-2011-3.jpg
END:VEVENT
BEGIN:VEVENT
DTSTART;TZID=America/Los_Angeles:20161020T193000
DTEND;TZID=America/Los_Angeles:20161020T213000
DTSTAMP:20260421T145831
CREATED:20160516T035441Z
LAST-MODIFIED:20161010T205157Z
UID:219-1476991800-1476999000@satsukiazaleabonsai.org
SUMMARY:Club Meeting
DESCRIPTION:Club elections.
URL:https://satsukiazaleabonsai.org/event/meeting-3/
LOCATION:Lakeside Park Garden Center\, Lake Merritt\, Oakland\, 666 Bellevue Avenue\, Oakland\, CA\, 94610\, United States
ATTACH;FMTTYPE=image/jpeg:https://satsukiazaleabonsai.org/wp-content/uploads/2016/06/BASA-2016a.jpg
END:VEVENT
BEGIN:VEVENT
DTSTART;TZID=America/Los_Angeles:20160922T193000
DTEND;TZID=America/Los_Angeles:20160922T213000
DTSTAMP:20260421T145831
CREATED:20160516T035313Z
LAST-MODIFIED:20160619T173855Z
UID:218-1474572600-1474579800@satsukiazaleabonsai.org
SUMMARY:Club Meeting
DESCRIPTION:Pot luck dinner and slide show of the spring exhibition.
URL:https://satsukiazaleabonsai.org/event/meeting-2/
LOCATION:Lakeside Park Garden Center\, Lake Merritt\, Oakland\, 666 Bellevue Avenue\, Oakland\, CA\, 94610\, United States
ATTACH;FMTTYPE=image/jpeg:https://satsukiazaleabonsai.org/wp-content/uploads/2016/05/IMG_3631.JPG-1024x813.jpg
END:VEVENT
BEGIN:VEVENT
DTSTART;TZID=America/Los_Angeles:20160623T193000
DTEND;TZID=America/Los_Angeles:20160623T213000
DTSTAMP:20260421T145831
CREATED:20160516T030124Z
LAST-MODIFIED:20160619T174004Z
UID:213-1466710200-1466717400@satsukiazaleabonsai.org
SUMMARY:Club Meeting
DESCRIPTION:TBA
URL:https://satsukiazaleabonsai.org/event/meeting/
LOCATION:Lakeside Park Garden Center\, Lake Merritt\, Oakland\, 666 Bellevue Avenue\, Oakland\, CA\, 94610\, United States
ATTACH;FMTTYPE=image/jpeg:https://satsukiazaleabonsai.org/wp-content/uploads/2016/06/Kozan-no-Tsuki-Azalea-2011-2.jpg
END:VEVENT
END:VCALENDAR